BEGIN:VCALENDAR
VERSION:2.0
PRODID:-//Voices of Tomorrow - ECPv6.15.20//NONSGML v1.0//EN
CALSCALE:GREGORIAN
METHOD:PUBLISH
X-ORIGINAL-URL:https://tomorrowvoices.org
X-WR-CALDESC:Events for Voices of Tomorrow
REFRESH-INTERVAL;VALUE=DURATION:PT1H
X-Robots-Tag:noindex
X-PUBLISHED-TTL:PT1H
BEGIN:VTIMEZONE
TZID:America/Los_Angeles
BEGIN:DAYLIGHT
TZOFFSETFROM:-0800
TZOFFSETTO:-0700
TZNAME:PDT
DTSTART:20240310T100000
END:DAYLIGHT
BEGIN:STANDARD
TZOFFSETFROM:-0700
TZOFFSETTO:-0800
TZNAME:PST
DTSTART:20241103T090000
END:STANDARD
BEGIN:DAYLIGHT
TZOFFSETFROM:-0800
TZOFFSETTO:-0700
TZNAME:PDT
DTSTART:20250309T100000
END:DAYLIGHT
BEGIN:STANDARD
TZOFFSETFROM:-0700
TZOFFSETTO:-0800
TZNAME:PST
DTSTART:20251102T090000
END:STANDARD
BEGIN:DAYLIGHT
TZOFFSETFROM:-0800
TZOFFSETTO:-0700
TZNAME:PDT
DTSTART:20260308T100000
END:DAYLIGHT
BEGIN:STANDARD
TZOFFSETFROM:-0700
TZOFFSETTO:-0800
TZNAME:PST
DTSTART:20261101T090000
END:STANDARD
END:VTIMEZONE
BEGIN:VEVENT
DTSTART;TZID=America/Los_Angeles:20251106T080000
DTEND;TZID=America/Los_Angeles:20251113T170000
DTSTAMP:20260423T163842
CREATED:20251008T144948Z
LAST-MODIFIED:20251008T144948Z
UID:10000021-1762416000-1763053200@tomorrowvoices.org
SUMMARY:Child Care Basics (CCB) – Spanish (30 hrs)
DESCRIPTION:Dates: September 13 & 14\nLanguage: Somali\nZoom Registration Link: https://zoom.us/meeting/register/MibpXvTqTgKfMC32oTCPzg\nStatus: Confirmed
URL:https://tomorrowvoices.org/event/child-care-basics-spanish/
CATEGORIES:Provider Training
END:VEVENT
END:VCALENDAR