BEGIN:VCALENDAR
VERSION:2.0
PRODID:-//Voices of Tomorrow - ECPv6.15.20//NONSGML v1.0//EN
CALSCALE:GREGORIAN
METHOD:PUBLISH
X-ORIGINAL-URL:https://tomorrowvoices.org
X-WR-CALDESC:Events for Voices of Tomorrow
REFRESH-INTERVAL;VALUE=DURATION:PT1H
X-Robots-Tag:noindex
X-PUBLISHED-TTL:PT1H
BEGIN:VTIMEZONE
TZID:America/Los_Angeles
BEGIN:DAYLIGHT
TZOFFSETFROM:-0800
TZOFFSETTO:-0700
TZNAME:PDT
DTSTART:20220313T100000
END:DAYLIGHT
BEGIN:STANDARD
TZOFFSETFROM:-0700
TZOFFSETTO:-0800
TZNAME:PST
DTSTART:20221106T090000
END:STANDARD
BEGIN:DAYLIGHT
TZOFFSETFROM:-0800
TZOFFSETTO:-0700
TZNAME:PDT
DTSTART:20230312T100000
END:DAYLIGHT
BEGIN:STANDARD
TZOFFSETFROM:-0700
TZOFFSETTO:-0800
TZNAME:PST
DTSTART:20231105T090000
END:STANDARD
BEGIN:DAYLIGHT
TZOFFSETFROM:-0800
TZOFFSETTO:-0700
TZNAME:PDT
DTSTART:20240310T100000
END:DAYLIGHT
BEGIN:STANDARD
TZOFFSETFROM:-0700
TZOFFSETTO:-0800
TZNAME:PST
DTSTART:20241103T090000
END:STANDARD
END:VTIMEZONE
BEGIN:VEVENT
DTSTART;VALUE=DATE:20230919
DTEND;VALUE=DATE:20230920
DTSTAMP:20260423T094051
CREATED:20230515T145849Z
LAST-MODIFIED:20230515T145849Z
UID:10000015-1695081600-1695167999@tomorrowvoices.org
SUMMARY:Advocacy 101 Training Sessions
DESCRIPTION:Details coming soon
URL:https://tomorrowvoices.org/event/advocacy-101-training-sessions-2/
CATEGORIES:Trainings
END:VEVENT
BEGIN:VEVENT
DTSTART;VALUE=DATE:20230902
DTEND;VALUE=DATE:20230903
DTSTAMP:20260423T094051
CREATED:20230515T145819Z
LAST-MODIFIED:20230515T145819Z
UID:10000014-1693612800-1693699199@tomorrowvoices.org
SUMMARY:Advocacy 101 Training Sessions
DESCRIPTION:Details coming soon
URL:https://tomorrowvoices.org/event/advocacy-101-training-sessions/
CATEGORIES:Trainings
END:VEVENT
BEGIN:VEVENT
DTSTART;VALUE=DATE:20230819
DTEND;VALUE=DATE:20230820
DTSTAMP:20260423T094051
CREATED:20230515T145751Z
LAST-MODIFIED:20230515T145751Z
UID:10000013-1692403200-1692489599@tomorrowvoices.org
SUMMARY:Advocacy 101 Training Sessions:  Communication
DESCRIPTION:Details coming soonl
URL:https://tomorrowvoices.org/event/advocacy-101-training-sessions-communication/
CATEGORIES:Trainings
END:VEVENT
BEGIN:VEVENT
DTSTART;VALUE=DATE:20230812
DTEND;VALUE=DATE:20230813
DTSTAMP:20260423T094051
CREATED:20230515T145721Z
LAST-MODIFIED:20230515T145721Z
UID:10000012-1691798400-1691884799@tomorrowvoices.org
SUMMARY:Advocacy 101 Training Sessions:  Voting and Elections
DESCRIPTION:Details coming soon.
URL:https://tomorrowvoices.org/event/advocacy-101-training-sessions-voting-and-elections/
CATEGORIES:Trainings
END:VEVENT
BEGIN:VEVENT
DTSTART;VALUE=DATE:20230729
DTEND;VALUE=DATE:20230730
DTSTAMP:20260423T094051
CREATED:20230515T145651Z
LAST-MODIFIED:20230515T145651Z
UID:10000011-1690588800-1690675199@tomorrowvoices.org
SUMMARY:Advocacy 101 Training Sessions:  Systems and Institutions
DESCRIPTION:Details coming soon.
URL:https://tomorrowvoices.org/event/advocacy-101-training-sessions-systems-and-institutions/
CATEGORIES:Trainings
END:VEVENT
BEGIN:VEVENT
DTSTART;VALUE=DATE:20230715
DTEND;VALUE=DATE:20230716
DTSTAMP:20260423T094051
CREATED:20230515T145616Z
LAST-MODIFIED:20230515T145616Z
UID:10000010-1689379200-1689465599@tomorrowvoices.org
SUMMARY:Advocacy 101 Training Sessions:  Advocacy Overview
DESCRIPTION:Details coming soon.
URL:https://tomorrowvoices.org/event/advocacy-101-training-sessions-advocacy-overview/
CATEGORIES:Trainings
END:VEVENT
END:VCALENDAR