BEGIN:VCALENDAR
VERSION:2.0
PRODID:-//Voices of Tomorrow - ECPv6.15.20//NONSGML v1.0//EN
CALSCALE:GREGORIAN
METHOD:PUBLISH
X-WR-CALNAME:Voices of Tomorrow
X-ORIGINAL-URL:https://tomorrowvoices.org
X-WR-CALDESC:Events for Voices of Tomorrow
REFRESH-INTERVAL;VALUE=DURATION:PT1H
X-Robots-Tag:noindex
X-PUBLISHED-TTL:PT1H
BEGIN:VTIMEZONE
TZID:America/Los_Angeles
BEGIN:DAYLIGHT
TZOFFSETFROM:-0800
TZOFFSETTO:-0700
TZNAME:PDT
DTSTART:20220313T100000
END:DAYLIGHT
BEGIN:STANDARD
TZOFFSETFROM:-0700
TZOFFSETTO:-0800
TZNAME:PST
DTSTART:20221106T090000
END:STANDARD
BEGIN:DAYLIGHT
TZOFFSETFROM:-0800
TZOFFSETTO:-0700
TZNAME:PDT
DTSTART:20230312T100000
END:DAYLIGHT
BEGIN:STANDARD
TZOFFSETFROM:-0700
TZOFFSETTO:-0800
TZNAME:PST
DTSTART:20231105T090000
END:STANDARD
BEGIN:DAYLIGHT
TZOFFSETFROM:-0800
TZOFFSETTO:-0700
TZNAME:PDT
DTSTART:20240310T100000
END:DAYLIGHT
BEGIN:STANDARD
TZOFFSETFROM:-0700
TZOFFSETTO:-0800
TZNAME:PST
DTSTART:20241103T090000
END:STANDARD
END:VTIMEZONE
BEGIN:VEVENT
DTSTART;TZID=America/Los_Angeles:20230415T140000
DTEND;TZID=America/Los_Angeles:20230415T180000
DTSTAMP:20260425T063035
CREATED:20230405T133146Z
LAST-MODIFIED:20230405T175410Z
UID:10000002-1681567200-1681581600@tomorrowvoices.org
SUMMARY:Voices of Tomorrow Job Fair
DESCRIPTION:[vc_row][vc_column][vc_button border_width=”0″ link=”url:https%3A%2F%2Fwww.eventbrite.com%2Fe%2F2023-early-learning-career-fair-tickets-565492833287|target:_blank” uncode_shortcode_id=”174284″]free registration[/vc_button][vc_column_text]We would like to formally invite you to our VOT’s Job Fair that will be held on April 15th from 2-6pm at Highline College. \nVoices of Tomorrow’s Job fair is for all ambitious people who want to advance in their careers\, are looking for new job opportunities in Early learning\, and many more!\nDon’t miss this chance to hear some advice that could change your professional life and take your career to the next level! \nDetails below: \nCareer Fair hosted by Voices of Tomorrow\nSaturday\, April 15th\, 2023\n2pm – 6pm\nLocation: Highline Community College\n[Building 8 on the bottom floor in room Mt. Constance and Mt. Olympus]\n(2400 S. 240th street\, Des Moines WA 98198)[/vc_column_text][vc_single_image media=”1105″ media_lightbox=”yes” media_width_percent=”100″ uncode_shortcode_id=”182864″][vc_column_text uncode_shortcode_id=”601112″]For more information\, contact: \nNimco Abdirahman\nHR Manager \nDirect: 206-905-6638 Office: 206-466-1229\nEmail: nabdirahman@tomorrowvoices.org[/vc_column_text][vc_button border_width=”0″ link=”url:https%3A%2F%2Fwww.eventbrite.com%2Fe%2F2023-early-learning-career-fair-tickets-565492833287|target:_blank” uncode_shortcode_id=”174284″]free registration[/vc_button][vc_single_image media=”1117″ media_lightbox=”yes” media_width_percent=”100″ uncode_shortcode_id=”104086″][/vc_column][/vc_row]
URL:https://tomorrowvoices.org/event/vot-job-fair/
LOCATION:Highline Community College\, 2400 S. 240th street\, Des Moines\, WA\, 98198\, United States
CATEGORIES:Special Events
ATTACH;FMTTYPE=image/jpeg:https://tomorrowvoices.org/wp-content/uploads/2023/04/vot-career-fair-header01.jpg
END:VEVENT
END:VCALENDAR