BEGIN:VCALENDAR
VERSION:2.0
PRODID:-//Voices of Tomorrow - ECPv6.15.20//NONSGML v1.0//EN
CALSCALE:GREGORIAN
METHOD:PUBLISH
X-ORIGINAL-URL:https://tomorrowvoices.org
X-WR-CALDESC:Events for Voices of Tomorrow
REFRESH-INTERVAL;VALUE=DURATION:PT1H
X-Robots-Tag:noindex
X-PUBLISHED-TTL:PT1H
BEGIN:VTIMEZONE
TZID:America/Los_Angeles
BEGIN:DAYLIGHT
TZOFFSETFROM:-0800
TZOFFSETTO:-0700
TZNAME:PDT
DTSTART:20240310T100000
END:DAYLIGHT
BEGIN:STANDARD
TZOFFSETFROM:-0700
TZOFFSETTO:-0800
TZNAME:PST
DTSTART:20241103T090000
END:STANDARD
BEGIN:DAYLIGHT
TZOFFSETFROM:-0800
TZOFFSETTO:-0700
TZNAME:PDT
DTSTART:20250309T100000
END:DAYLIGHT
BEGIN:STANDARD
TZOFFSETFROM:-0700
TZOFFSETTO:-0800
TZNAME:PST
DTSTART:20251102T090000
END:STANDARD
BEGIN:DAYLIGHT
TZOFFSETFROM:-0800
TZOFFSETTO:-0700
TZNAME:PDT
DTSTART:20260308T100000
END:DAYLIGHT
BEGIN:STANDARD
TZOFFSETFROM:-0700
TZOFFSETTO:-0800
TZNAME:PST
DTSTART:20261101T090000
END:STANDARD
END:VTIMEZONE
BEGIN:VEVENT
DTSTART;TZID=America/Los_Angeles:20251213T140000
DTEND;TZID=America/Los_Angeles:20251213T180000
DTSTAMP:20260423T135543
CREATED:20251108T150832Z
LAST-MODIFIED:20251108T150832Z
UID:10000022-1765634400-1765648800@tomorrowvoices.org
SUMMARY:Healing Together
DESCRIPTION:[vc_row][vc_column width=”1/2″][vc_column_text uncode_shortcode_id=”146161″] \nFaith\, Culture\, & Care in Conversation\nJoin us for an inspiring community forum designed to break the silence around mental health and substance use in the Somali community. \nThis event will feature panel discussions\, guest speakers\, and networking opportunities-bringing together faith leaders\, mental health professionals\, and community advocates. \nAdmission is free\, but registration is required.\n[/vc_column_text][vc_button button_color=”color-663737″ border_width=”0″ button_color_type=”uncode-palette” uncode_shortcode_id=”118520″ link=”url:https%3A%2F%2Fwww.eventbrite.com%2Fe%2Fhealing-together-somali-voices-on-mental-health-and-recovery-forum-tickets-1873854622619%3Futm_experiment%3Dtest_share_listing%26aff%3Debdsshios%26sg%3De2adb27953a4894c514cc616c763cc790b9e2523dba6bcac7da4055d3b3ba074fbe5614022fdf8918adc19a8a3b86a538886ba1de153758a0723284dc20e51431e02c2e56b53b141c8bbcd303a|target:_blank”]Register[/vc_button][/vc_column][vc_column column_width_percent=”100″ gutter_size=”3″ back_color=”color-xsdn” overlay_alpha=”50″ radius=”lg” shift_x=”0″ shift_y=”0″ shift_y_down=”0″ z_index=”0″ medium_width=”0″ mobile_width=”0″ width=”1/2″ uncode_shortcode_id=”110582″ back_color_type=”uncode-palette”][vc_column_text uncode_shortcode_id=”507344″] \nEvent Highlights\n\nPanel discussions with respected imams\, therapists\, and advocates\nKeynote speeches from guest speakers with lived experience\nInsights on faith and culture as strengths in mental wellness\nPractical tools for reducing stigma and increasing access to care\nNetworking to connect with providers\, faith leaders\, and community members\n\n[/vc_column_text][vc_button button_color=”color-663737″ border_width=”0″ button_color_type=”uncode-palette” uncode_shortcode_id=”118520″ link=”url:https%3A%2F%2Fwww.eventbrite.com%2Fe%2Fhealing-together-somali-voices-on-mental-health-and-recovery-forum-tickets-1873854622619%3Futm_experiment%3Dtest_share_listing%26aff%3Debdsshios%26sg%3De2adb27953a4894c514cc616c763cc790b9e2523dba6bcac7da4055d3b3ba074fbe5614022fdf8918adc19a8a3b86a538886ba1de153758a0723284dc20e51431e02c2e56b53b141c8bbcd303a|target:_blank”]Register[/vc_button][/vc_column][/vc_row][vc_row][vc_column width=”1/1″][vc_column_text uncode_shortcode_id=”507344″]Organized By Voices of Tomorrow in partnership with local mosques\, community organizations\, and health providers.[/vc_column_text][/vc_column][/vc_row]
URL:https://tomorrowvoices.org/event/healing-together/
LOCATION:Highline Community College\, 2400 S. 240th street\, Des Moines\, WA\, 98198\, United States
CATEGORIES:Special Events
ATTACH;FMTTYPE=image/jpeg:https://tomorrowvoices.org/wp-content/uploads/2025/11/Healing-Together.jpg
END:VEVENT
END:VCALENDAR