BEGIN:VCALENDAR
VERSION:2.0
PRODID:-//Voices of Tomorrow - ECPv6.15.20//NONSGML v1.0//EN
CALSCALE:GREGORIAN
METHOD:PUBLISH
X-ORIGINAL-URL:https://tomorrowvoices.org
X-WR-CALDESC:Events for Voices of Tomorrow
REFRESH-INTERVAL;VALUE=DURATION:PT1H
X-Robots-Tag:noindex
X-PUBLISHED-TTL:PT1H
BEGIN:VTIMEZONE
TZID:America/Los_Angeles
BEGIN:DAYLIGHT
TZOFFSETFROM:-0800
TZOFFSETTO:-0700
TZNAME:PDT
DTSTART:20240310T100000
END:DAYLIGHT
BEGIN:STANDARD
TZOFFSETFROM:-0700
TZOFFSETTO:-0800
TZNAME:PST
DTSTART:20241103T090000
END:STANDARD
BEGIN:DAYLIGHT
TZOFFSETFROM:-0800
TZOFFSETTO:-0700
TZNAME:PDT
DTSTART:20250309T100000
END:DAYLIGHT
BEGIN:STANDARD
TZOFFSETFROM:-0700
TZOFFSETTO:-0800
TZNAME:PST
DTSTART:20251102T090000
END:STANDARD
BEGIN:DAYLIGHT
TZOFFSETFROM:-0800
TZOFFSETTO:-0700
TZNAME:PDT
DTSTART:20260308T100000
END:DAYLIGHT
BEGIN:STANDARD
TZOFFSETFROM:-0700
TZOFFSETTO:-0800
TZNAME:PST
DTSTART:20261101T090000
END:STANDARD
END:VTIMEZONE
BEGIN:VEVENT
DTSTART;TZID=America/Los_Angeles:20250405T130000
DTEND;TZID=America/Los_Angeles:20250405T180000
DTSTAMP:20260423T123226
CREATED:20240309T165136Z
LAST-MODIFIED:20250324T161027Z
UID:10000017-1743858000-1743876000@tomorrowvoices.org
SUMMARY:Eid Carnival Celebration
DESCRIPTION:[vc_row row_height_percent=”0″ override_padding=”yes” h_padding=”0″ top_padding=”2″ bottom_padding=”2″ overlay_alpha=”50″ gutter_size=”3″ column_width_percent=”100″ shift_y=”0″ z_index=”0″ inverted_device_order=”yes” content_parallax=”0″ uncode_shortcode_id=”120512″][vc_column column_width_percent=”100″ gutter_size=”3″ overlay_alpha=”50″ shift_x=”0″ shift_y=”0″ shift_y_down=”0″ z_index=”0″ medium_width=”4″ mobile_width=”0″ width=”7/12″ uncode_shortcode_id=”178451″][vc_custom_heading uncode_shortcode_id=”757810″]Join Us for a Day of Fun\, Food\, and Festivities![/vc_custom_heading][vc_column_text uncode_shortcode_id=”170352″]Celebrate Eid with family and friends at our free community carnival! Enjoy an exciting day filled with: \n🎮 Arcade Games – Play and win big!\n🎭 Live Entertainment – Enjoy performances and cultural showcases.\n🏰 Bouncy Houses – Fun for kids of all ages!\n🍔 Delicious Food – A variety of tasty options for everyone.\n🎁 Prizes & Giveaways – Win exciting surprises throughout the event. \n…and much more! \nThis event is open to all—bring your loved ones and experience the joy of Eid together!\n✅ RSVP now and be entered into a special giveaway at the event![/vc_column_text][vc_separator sep_color=”” uncode_shortcode_id=”129759″][vc_column_text uncode_shortcode_id=”992200″]Also taking place… \nResource Resettlement Fair\nThis event brings local organizations together to offer resources and support for newly immigrated families.[/vc_column_text][vc_button border_width=”0″ media_lightbox=”1644″ uncode_shortcode_id=”946737″]Click for Details[/vc_button][vc_separator sep_color=”” uncode_shortcode_id=”129759″][vc_custom_heading text_color=”color-186717″ heading_semantic=”h3″ text_size=”h3″ uncode_shortcode_id=”185061″ text_color_type=”uncode-palette”]Getting There[/vc_custom_heading][vc_column_text uncode_shortcode_id=”362795″]📍 Venue: The event will be held at 206 Railroad Avenue North\, Kent\, WA 98032\, right next to Kent Station. \n🚗 Parking: Street parking is available across the building\, and a free parking garage is located just down the street at Kent Station.[/vc_column_text][/vc_column][vc_column column_width_percent=”100″ gutter_size=”3″ back_color=”color-xsdn” overlay_alpha=”50″ radius=”lg” preserve_border=”yes” preserve_border_tablet=”yes” preserve_border_mobile=”yes” border_color=”color-663737″ border_style=”solid” shift_x=”0″ shift_y=”0″ shift_y_down=”0″ z_index=”0″ medium_width=”4″ mobile_width=”0″ sticky=”yes” width=”5/12″ uncode_shortcode_id=”108815″ back_color_type=”uncode-palette” css=”.vc_custom_1741963435348{border-top-width: 1px !important;border-right-width: 1px !important;border-bottom-width: 1px !important;border-left-width: 1px !important;}” border_color_type=”uncode-palette”][vc_custom_heading text_color=”color-663737″ uncode_shortcode_id=”110428″ text_color_type=”uncode-palette”]RSVP Now to Secure Your Spot![/vc_custom_heading][vc_column_text text_lead=”small” uncode_shortcode_id=”127176″]To help us plan for the best experience possible\, please RSVP by filling out the form below.[/vc_column_text][vc_column_text uncode_shortcode_id=”768969″]Please enable JavaScript in your browser to complete this form.Name *FirstLastEmail *Phone Number *Submit  [/vc_column_text][/vc_column][/vc_row]
URL:https://tomorrowvoices.org/event/eid-carnival-celebration/
LOCATION:206 Railroad Avenue\, 206 Railroad Avenue North\, Kent\, 98032\, United States
CATEGORIES:Special Events
ATTACH;FMTTYPE=image/webp:https://tomorrowvoices.org/wp-content/uploads/2024/03/EID-WEB-BANNER-small.webp
END:VEVENT
END:VCALENDAR