BEGIN:VCALENDAR
VERSION:2.0
PRODID:-//Voices of Tomorrow - ECPv6.15.20//NONSGML v1.0//EN
CALSCALE:GREGORIAN
METHOD:PUBLISH
X-ORIGINAL-URL:https://tomorrowvoices.org
X-WR-CALDESC:Events for Voices of Tomorrow
REFRESH-INTERVAL;VALUE=DURATION:PT1H
X-Robots-Tag:noindex
X-PUBLISHED-TTL:PT1H
BEGIN:VTIMEZONE
TZID:America/Los_Angeles
BEGIN:DAYLIGHT
TZOFFSETFROM:-0800
TZOFFSETTO:-0700
TZNAME:PDT
DTSTART:20220313T100000
END:DAYLIGHT
BEGIN:STANDARD
TZOFFSETFROM:-0700
TZOFFSETTO:-0800
TZNAME:PST
DTSTART:20221106T090000
END:STANDARD
BEGIN:DAYLIGHT
TZOFFSETFROM:-0800
TZOFFSETTO:-0700
TZNAME:PDT
DTSTART:20230312T100000
END:DAYLIGHT
BEGIN:STANDARD
TZOFFSETFROM:-0700
TZOFFSETTO:-0800
TZNAME:PST
DTSTART:20231105T090000
END:STANDARD
BEGIN:DAYLIGHT
TZOFFSETFROM:-0800
TZOFFSETTO:-0700
TZNAME:PDT
DTSTART:20240310T100000
END:DAYLIGHT
BEGIN:STANDARD
TZOFFSETFROM:-0700
TZOFFSETTO:-0800
TZNAME:PST
DTSTART:20241103T090000
END:STANDARD
END:VTIMEZONE
BEGIN:VEVENT
DTSTART;TZID=America/Los_Angeles:20231104T120000
DTEND;TZID=America/Los_Angeles:20231104T140000
DTSTAMP:20260423T133457
CREATED:20230515T145452Z
LAST-MODIFIED:20230515T145452Z
UID:10000008-1699099200-1699106400@tomorrowvoices.org
SUMMARY:Listening Session
DESCRIPTION:
URL:https://tomorrowvoices.org/event/listening-session-6/
LOCATION:Virtual
CATEGORIES:Listening Sessions
END:VEVENT
BEGIN:VEVENT
DTSTART;TZID=America/Los_Angeles:20230902T120000
DTEND;TZID=America/Los_Angeles:20230902T140000
DTSTAMP:20260423T133457
CREATED:20230515T145348Z
LAST-MODIFIED:20230515T145348Z
UID:10000006-1693656000-1693663200@tomorrowvoices.org
SUMMARY:Listening Session
DESCRIPTION:
URL:https://tomorrowvoices.org/event/listening-session-4/
LOCATION:Virtual
CATEGORIES:Listening Sessions
END:VEVENT
BEGIN:VEVENT
DTSTART;TZID=America/Los_Angeles:20230708T120000
DTEND;TZID=America/Los_Angeles:20230708T140000
DTSTAMP:20260423T133457
CREATED:20230515T145214Z
LAST-MODIFIED:20230515T145214Z
UID:10000004-1688817600-1688824800@tomorrowvoices.org
SUMMARY:Listening Session
DESCRIPTION:
URL:https://tomorrowvoices.org/event/listening-session-2/
LOCATION:Virtual
CATEGORIES:Listening Sessions
END:VEVENT
END:VCALENDAR